BEGIN:VCALENDAR
VERSION:2.0
PRODID:-//French American School of Tampa Bay - ECPv6.15.20//NONSGML v1.0//EN
CALSCALE:GREGORIAN
METHOD:PUBLISH
X-ORIGINAL-URL:https://fastb.org
X-WR-CALDESC:Events for French American School of Tampa Bay
REFRESH-INTERVAL;VALUE=DURATION:PT1H
X-Robots-Tag:noindex
X-PUBLISHED-TTL:PT1H
BEGIN:VTIMEZONE
TZID:America/New_York
BEGIN:DAYLIGHT
TZOFFSETFROM:-0500
TZOFFSETTO:-0400
TZNAME:EDT
DTSTART:20230312T070000
END:DAYLIGHT
BEGIN:STANDARD
TZOFFSETFROM:-0400
TZOFFSETTO:-0500
TZNAME:EST
DTSTART:20231105T060000
END:STANDARD
BEGIN:DAYLIGHT
TZOFFSETFROM:-0500
TZOFFSETTO:-0400
TZNAME:EDT
DTSTART:20240310T070000
END:DAYLIGHT
BEGIN:STANDARD
TZOFFSETFROM:-0400
TZOFFSETTO:-0500
TZNAME:EST
DTSTART:20241103T060000
END:STANDARD
BEGIN:DAYLIGHT
TZOFFSETFROM:-0500
TZOFFSETTO:-0400
TZNAME:EDT
DTSTART:20250309T070000
END:DAYLIGHT
BEGIN:STANDARD
TZOFFSETFROM:-0400
TZOFFSETTO:-0500
TZNAME:EST
DTSTART:20251102T060000
END:STANDARD
BEGIN:DAYLIGHT
TZOFFSETFROM:-0500
TZOFFSETTO:-0400
TZNAME:EDT
DTSTART:20260308T070000
END:DAYLIGHT
BEGIN:STANDARD
TZOFFSETFROM:-0400
TZOFFSETTO:-0500
TZNAME:EST
DTSTART:20261101T060000
END:STANDARD
END:VTIMEZONE
BEGIN:VEVENT
DTSTART;TZID=America/New_York:20241009T083000
DTEND;TZID=America/New_York:20241009T090000
DTSTAMP:20260423T055511
CREATED:20240908T131127Z
LAST-MODIFIED:20241006T221922Z
UID:3667-1728462600-1728464400@fastb.org
SUMMARY:NO SCHOOL : Hurricane Milton
DESCRIPTION:
URL:https://fastb.org/event/grades-4-5-showcase-1/
END:VEVENT
BEGIN:VEVENT
DTSTART;VALUE=DATE:20241010
DTEND;VALUE=DATE:20241011
DTSTAMP:20260423T055511
CREATED:20241006T221848Z
LAST-MODIFIED:20241006T221848Z
UID:3739-1728518400-1728604799@fastb.org
SUMMARY:NO SCHOOL : Hurricane Milton
DESCRIPTION:
URL:https://fastb.org/event/no-school-hurricane-milton/
END:VEVENT
BEGIN:VEVENT
DTSTART;TZID=America/New_York:20241011T083000
DTEND;TZID=America/New_York:20241011T090000
DTSTAMP:20260423T055511
CREATED:20240908T131202Z
LAST-MODIFIED:20240908T131202Z
UID:3669-1728635400-1728637200@fastb.org
SUMMARY:Professional Day - No School
DESCRIPTION:
URL:https://fastb.org/event/professional-day-no-school-3/
END:VEVENT
BEGIN:VEVENT
DTSTART;VALUE=DATE:20241014
DTEND;VALUE=DATE:20241019
DTSTAMP:20260423T055511
CREATED:20240908T150056Z
LAST-MODIFIED:20240908T150056Z
UID:3671-1728864000-1729295999@fastb.org
SUMMARY:October Break
DESCRIPTION:
URL:https://fastb.org/event/october-break-2/
END:VEVENT
BEGIN:VEVENT
DTSTART;TZID=America/New_York:20241022T083000
DTEND;TZID=America/New_York:20241022T090000
DTSTAMP:20260423T055511
CREATED:20240908T150129Z
LAST-MODIFIED:20240908T150129Z
UID:3672-1729585800-1729587600@fastb.org
SUMMARY:Café & Conversation
DESCRIPTION:
URL:https://fastb.org/event/cafe-conversation-6/
END:VEVENT
BEGIN:VEVENT
DTSTART;TZID=America/New_York:20241024T083000
DTEND;TZID=America/New_York:20241024T210000
DTSTAMP:20260423T055511
CREATED:20240908T130504Z
LAST-MODIFIED:20240930T220314Z
UID:3663-1729758600-1729803600@fastb.org
SUMMARY:EC4 Showcase #1
DESCRIPTION:
URL:https://fastb.org/event/ec4-showcase-1/
END:VEVENT
BEGIN:VEVENT
DTSTART;TZID=America/New_York:20241025T083000
DTEND;TZID=America/New_York:20241025T090000
DTSTAMP:20260423T055512
CREATED:20240908T130851Z
LAST-MODIFIED:20240930T220214Z
UID:3664-1729845000-1729846800@fastb.org
SUMMARY:Kindergarten Showcase #1
DESCRIPTION:
URL:https://fastb.org/event/kindergarten-showcase-1/
END:VEVENT
BEGIN:VEVENT
DTSTART;TZID=America/New_York:20241031T140000
DTEND;TZID=America/New_York:20241031T150000
DTSTAMP:20260423T055512
CREATED:20240908T150157Z
LAST-MODIFIED:20240908T150157Z
UID:3674-1730383200-1730386800@fastb.org
SUMMARY:Halloween Celebration
DESCRIPTION:
URL:https://fastb.org/event/halloween-celebration-2/
END:VEVENT
BEGIN:VEVENT
DTSTART;VALUE=DATE:20241101
DTEND;VALUE=DATE:20241102
DTSTAMP:20260423T055512
CREATED:20240908T150802Z
LAST-MODIFIED:20240908T150802Z
UID:3676-1730419200-1730505599@fastb.org
SUMMARY:Early Release\, Dismissal 11:45am no lunch
DESCRIPTION:
URL:https://fastb.org/event/early-release-dismissal-1145am-no-lunch/
END:VEVENT
BEGIN:VEVENT
DTSTART;VALUE=DATE:20241104
DTEND;VALUE=DATE:20241107
DTSTAMP:20260423T055512
CREATED:20240908T150840Z
LAST-MODIFIED:20240908T150853Z
UID:3677-1730678400-1730937599@fastb.org
SUMMARY:Art Week
DESCRIPTION:
URL:https://fastb.org/event/art-week/
END:VEVENT
BEGIN:VEVENT
DTSTART;TZID=America/New_York:20241107T170000
DTEND;TZID=America/New_York:20241107T180000
DTSTAMP:20260423T055512
CREATED:20240908T150924Z
LAST-MODIFIED:20240908T150924Z
UID:3679-1730998800-1731002400@fastb.org
SUMMARY:Art Week Exhibition
DESCRIPTION:
URL:https://fastb.org/event/art-week-exhibition/
END:VEVENT
BEGIN:VEVENT
DTSTART;TZID=America/New_York:20241119T083000
DTEND;TZID=America/New_York:20241119T090000
DTSTAMP:20260423T055512
CREATED:20240908T150957Z
LAST-MODIFIED:20240908T150957Z
UID:3680-1732005000-1732006800@fastb.org
SUMMARY:Café & Conversation
DESCRIPTION:
URL:https://fastb.org/event/cafe-conversation-7/
END:VEVENT
BEGIN:VEVENT
DTSTART;TZID=America/New_York:20241121T031500
DTEND;TZID=America/New_York:20241121T190000
DTSTAMP:20260423T055512
CREATED:20240908T151514Z
LAST-MODIFIED:20240908T151514Z
UID:3682-1732158900-1732215600@fastb.org
SUMMARY:Parents - Teacher Conferences
DESCRIPTION:
URL:https://fastb.org/event/parents-teacher-conferences-2/
END:VEVENT
BEGIN:VEVENT
DTSTART;VALUE=DATE:20241122
DTEND;VALUE=DATE:20241123
DTSTAMP:20260423T055512
CREATED:20240908T151842Z
LAST-MODIFIED:20240908T151842Z
UID:3683-1732233600-1732319999@fastb.org
SUMMARY:Early Release at 11:45 am ~  no lunch
DESCRIPTION:
URL:https://fastb.org/event/early-release-at-1145-am-no-lunch/
END:VEVENT
BEGIN:VEVENT
DTSTART;VALUE=DATE:20241122
DTEND;VALUE=DATE:20241123
DTSTAMP:20260423T055512
CREATED:20240908T151912Z
LAST-MODIFIED:20240908T152115Z
UID:3684-1732233600-1732319999@fastb.org
SUMMARY:Parents - Teacher Conferences start at 12pm
DESCRIPTION:
URL:https://fastb.org/event/pt-conferences-start-at-12pm/
END:VEVENT
BEGIN:VEVENT
DTSTART;VALUE=DATE:20241125
DTEND;VALUE=DATE:20241130
DTSTAMP:20260423T055512
CREATED:20240908T151941Z
LAST-MODIFIED:20240908T152000Z
UID:3686-1732492800-1732924799@fastb.org
SUMMARY:Thanksgiving Break
DESCRIPTION:
URL:https://fastb.org/event/thanksgiving-break-2/
END:VEVENT
BEGIN:VEVENT
DTSTART;TZID=America/New_York:20241210T083000
DTEND;TZID=America/New_York:20241210T090000
DTSTAMP:20260423T055512
CREATED:20240908T153428Z
LAST-MODIFIED:20240908T153428Z
UID:3687-1733819400-1733821200@fastb.org
SUMMARY:Café & Conversation
DESCRIPTION:
URL:https://fastb.org/event/cafe-conversation-8/
END:VEVENT
BEGIN:VEVENT
DTSTART;TZID=America/New_York:20241220T114500
DTEND;TZID=America/New_York:20241220T114500
DTSTAMP:20260423T055512
CREATED:20241216T005418Z
LAST-MODIFIED:20241216T005418Z
UID:3754-1734695100-1734695100@fastb.org
SUMMARY:Early Release 11:45am ~ No Lunch
DESCRIPTION:
URL:https://fastb.org/event/early-release-1145am-no-lunch-3/
END:VEVENT
BEGIN:VEVENT
DTSTART;VALUE=DATE:20241223
DTEND;VALUE=DATE:20250104
DTSTAMP:20260423T055512
CREATED:20240908T153508Z
LAST-MODIFIED:20240908T153508Z
UID:3689-1734912000-1735948799@fastb.org
SUMMARY:Winter Break
DESCRIPTION:
URL:https://fastb.org/event/winter-break-3/
END:VEVENT
BEGIN:VEVENT
DTSTART;VALUE=DATE:20250106
DTEND;VALUE=DATE:20250107
DTSTAMP:20260423T055512
CREATED:20240908T153555Z
LAST-MODIFIED:20240908T153555Z
UID:3691-1736121600-1736207999@fastb.org
SUMMARY:School Resumes at 8:30
DESCRIPTION:
URL:https://fastb.org/event/school-resumes-at-830/
END:VEVENT
BEGIN:VEVENT
DTSTART;TZID=America/New_York:20250114T083000
DTEND;TZID=America/New_York:20250114T090000
DTSTAMP:20260423T055512
CREATED:20240908T153629Z
LAST-MODIFIED:20240908T153837Z
UID:3693-1736843400-1736845200@fastb.org
SUMMARY:Café & Conversation
DESCRIPTION:
URL:https://fastb.org/event/cafe-conversation-9/
END:VEVENT
BEGIN:VEVENT
DTSTART;TZID=America/New_York:20250117T133000
DTEND;TZID=America/New_York:20250117T150000
DTSTAMP:20260423T055512
CREATED:20240908T153913Z
LAST-MODIFIED:20240908T153927Z
UID:3695-1737120600-1737126000@fastb.org
SUMMARY:Winter Festival
DESCRIPTION:
URL:https://fastb.org/event/winter-festival/
END:VEVENT
BEGIN:VEVENT
DTSTART;VALUE=DATE:20250120
DTEND;VALUE=DATE:20250121
DTSTAMP:20260423T055512
CREATED:20240908T153944Z
LAST-MODIFIED:20240908T153944Z
UID:3696-1737331200-1737417599@fastb.org
SUMMARY:Dr Martin Luther King Day\, No School
DESCRIPTION:
URL:https://fastb.org/event/dr-martin-luther-king-day-no-school/
END:VEVENT
BEGIN:VEVENT
DTSTART;VALUE=DATE:20250121
DTEND;VALUE=DATE:20250122
DTSTAMP:20260423T055512
CREATED:20240908T154046Z
LAST-MODIFIED:20241219T232331Z
UID:3700-1737417600-1737503999@fastb.org
SUMMARY:Professional Day - No School
DESCRIPTION:
URL:https://fastb.org/event/professional-day-no-school-4/
END:VEVENT
BEGIN:VEVENT
DTSTART;VALUE=DATE:20250131
DTEND;VALUE=DATE:20250201
DTSTAMP:20260423T055512
CREATED:20240908T154019Z
LAST-MODIFIED:20240908T154019Z
UID:3697-1738281600-1738367999@fastb.org
SUMMARY:Career Day
DESCRIPTION:
URL:https://fastb.org/event/career-day/
END:VEVENT
BEGIN:VEVENT
DTSTART;TZID=America/New_York:20250211T083000
DTEND;TZID=America/New_York:20250211T090000
DTSTAMP:20260423T055512
CREATED:20240908T154351Z
LAST-MODIFIED:20240908T154351Z
UID:3701-1739262600-1739264400@fastb.org
SUMMARY:Café & Conversation
DESCRIPTION:
URL:https://fastb.org/event/cafe-conversation-10/
END:VEVENT
BEGIN:VEVENT
DTSTART;VALUE=DATE:20250218
DTEND;VALUE=DATE:20250219
DTSTAMP:20260423T055512
CREATED:20240908T154428Z
LAST-MODIFIED:20240908T154428Z
UID:3702-1739836800-1739923199@fastb.org
SUMMARY:Parents - Teacher Conferences: start at 3:15pm
DESCRIPTION:
URL:https://fastb.org/event/parents-teacher-conferences-start-at-315pm/
END:VEVENT
BEGIN:VEVENT
DTSTART;TZID=America/New_York:20250218T080000
DTEND;TZID=America/New_York:20250218T170000
DTSTAMP:20260423T055512
CREATED:20240908T154541Z
LAST-MODIFIED:20240908T154541Z
UID:3704-1739865600-1739898000@fastb.org
SUMMARY:Parents - Teacher Conferences: start at 12:00 pm
DESCRIPTION:
URL:https://fastb.org/event/parents-teacher-conferences-start-at-1200-pm/
END:VEVENT
BEGIN:VEVENT
DTSTART;VALUE=DATE:20250219
DTEND;VALUE=DATE:20250220
DTSTAMP:20260423T055512
CREATED:20240908T154507Z
LAST-MODIFIED:20240908T154507Z
UID:3703-1739923200-1740009599@fastb.org
SUMMARY:Early Release 11:45am ~ No Lunch
DESCRIPTION:
URL:https://fastb.org/event/early-release-1145am-no-lunch/
END:VEVENT
BEGIN:VEVENT
DTSTART;VALUE=DATE:20250220
DTEND;VALUE=DATE:20250225
DTSTAMP:20260423T055512
CREATED:20240908T154626Z
LAST-MODIFIED:20240908T154626Z
UID:3705-1740009600-1740441599@fastb.org
SUMMARY:February Break
DESCRIPTION:
URL:https://fastb.org/event/february-break/
END:VEVENT
END:VCALENDAR